BEGIN:VCALENDAR
VERSION:2.0
PRODID:-//The Society of Colonial Dames of Massachusetts - ECPv6.15.18//NONSGML v1.0//EN
CALSCALE:GREGORIAN
METHOD:PUBLISH
X-ORIGINAL-URL:https://nscdama.org
X-WR-CALDESC:Events for The Society of Colonial Dames of Massachusetts
REFRESH-INTERVAL;VALUE=DURATION:PT1H
X-Robots-Tag:noindex
X-PUBLISHED-TTL:PT1H
BEGIN:VTIMEZONE
TZID:America/New_York
BEGIN:DAYLIGHT
TZOFFSETFROM:-0500
TZOFFSETTO:-0400
TZNAME:EDT
DTSTART:20230312T070000
END:DAYLIGHT
BEGIN:STANDARD
TZOFFSETFROM:-0400
TZOFFSETTO:-0500
TZNAME:EST
DTSTART:20231105T060000
END:STANDARD
BEGIN:DAYLIGHT
TZOFFSETFROM:-0500
TZOFFSETTO:-0400
TZNAME:EDT
DTSTART:20240310T070000
END:DAYLIGHT
BEGIN:STANDARD
TZOFFSETFROM:-0400
TZOFFSETTO:-0500
TZNAME:EST
DTSTART:20241103T060000
END:STANDARD
BEGIN:DAYLIGHT
TZOFFSETFROM:-0500
TZOFFSETTO:-0400
TZNAME:EDT
DTSTART:20250309T070000
END:DAYLIGHT
BEGIN:STANDARD
TZOFFSETFROM:-0400
TZOFFSETTO:-0500
TZNAME:EST
DTSTART:20251102T060000
END:STANDARD
END:VTIMEZONE
BEGIN:VEVENT
DTSTART;TZID=America/New_York:20241029T110000
DTEND;TZID=America/New_York:20241029T130000
DTSTAMP:20260422T062321
CREATED:20240905T163134Z
LAST-MODIFIED:20241025T175344Z
UID:10000109-1730199600-1730206800@nscdama.org
SUMMARY:Granary Burying Ground Tour
DESCRIPTION:Please join the NSCDA-MA for the Granary Burying Ground Tour led by the Freedom Trail Foundation on Tuesday\, October 29th. This tour of Boston’s Granary Burying Ground will meet outside of Park Street Church (0 Park Street) at 11:00 AM. After the tour\, lunch will be held at William Hickling Prescott House. \n 
URL:https://nscdama.org/event/granary-burying-ground-tour/
LOCATION:Granary Burying Ground\, Tremont Street\, Boston\, MA\, 02108\, United States
ATTACH;FMTTYPE=image/jpeg:https://nscdama.org/wp-content/uploads/2024/09/Granary-Burying-Ground-Tour-_1_.jpg
ORGANIZER;CN="NSCDA-MA":MAILTO:dames@nscdama.org
END:VEVENT
END:VCALENDAR