BEGIN:VCALENDAR
VERSION:2.0
PRODID:-//The Society of Colonial Dames of Massachusetts - ECPv6.15.18//NONSGML v1.0//EN
CALSCALE:GREGORIAN
METHOD:PUBLISH
X-ORIGINAL-URL:https://nscdama.org
X-WR-CALDESC:Events for The Society of Colonial Dames of Massachusetts
REFRESH-INTERVAL;VALUE=DURATION:PT1H
X-Robots-Tag:noindex
X-PUBLISHED-TTL:PT1H
BEGIN:VTIMEZONE
TZID:America/New_York
BEGIN:DAYLIGHT
TZOFFSETFROM:-0500
TZOFFSETTO:-0400
TZNAME:EDT
DTSTART:20210314T070000
END:DAYLIGHT
BEGIN:STANDARD
TZOFFSETFROM:-0400
TZOFFSETTO:-0500
TZNAME:EST
DTSTART:20211107T060000
END:STANDARD
BEGIN:DAYLIGHT
TZOFFSETFROM:-0500
TZOFFSETTO:-0400
TZNAME:EDT
DTSTART:20220313T070000
END:DAYLIGHT
BEGIN:STANDARD
TZOFFSETFROM:-0400
TZOFFSETTO:-0500
TZNAME:EST
DTSTART:20221106T060000
END:STANDARD
BEGIN:DAYLIGHT
TZOFFSETFROM:-0500
TZOFFSETTO:-0400
TZNAME:EDT
DTSTART:20230312T070000
END:DAYLIGHT
BEGIN:STANDARD
TZOFFSETFROM:-0400
TZOFFSETTO:-0500
TZNAME:EST
DTSTART:20231105T060000
END:STANDARD
BEGIN:DAYLIGHT
TZOFFSETFROM:-0500
TZOFFSETTO:-0400
TZNAME:EDT
DTSTART:20240310T070000
END:DAYLIGHT
BEGIN:STANDARD
TZOFFSETFROM:-0400
TZOFFSETTO:-0500
TZNAME:EST
DTSTART:20241103T060000
END:STANDARD
BEGIN:DAYLIGHT
TZOFFSETFROM:-0500
TZOFFSETTO:-0400
TZNAME:EDT
DTSTART:20250309T070000
END:DAYLIGHT
BEGIN:STANDARD
TZOFFSETFROM:-0400
TZOFFSETTO:-0500
TZNAME:EST
DTSTART:20251102T060000
END:STANDARD
BEGIN:DAYLIGHT
TZOFFSETFROM:-0500
TZOFFSETTO:-0400
TZNAME:EDT
DTSTART:20260308T070000
END:DAYLIGHT
BEGIN:STANDARD
TZOFFSETFROM:-0400
TZOFFSETTO:-0500
TZNAME:EST
DTSTART:20261101T060000
END:STANDARD
BEGIN:DAYLIGHT
TZOFFSETFROM:-0500
TZOFFSETTO:-0400
TZNAME:EDT
DTSTART:20270314T070000
END:DAYLIGHT
BEGIN:STANDARD
TZOFFSETFROM:-0400
TZOFFSETTO:-0500
TZNAME:EST
DTSTART:20271107T060000
END:STANDARD
END:VTIMEZONE
BEGIN:VEVENT
DTSTART;TZID=America/New_York:20260305T180000
DTEND;TZID=America/New_York:20260305T200000
DTSTAMP:20260422T044848
CREATED:20260108T165247Z
LAST-MODIFIED:20260223T183929Z
UID:10000148-1772733600-1772740800@nscdama.org
SUMMARY:(Members Only) 17th Annual Jean Brett Lecture\, Nina Sankovitch
DESCRIPTION:Join the NSCDA-MA for the 17th Annual Jean Brett Lecture. This year will feature Nina Sankovitch\, the author of American Rebels: How the Hancock\, Adams\, and Quincy Families Fanned the Flames of Revolution. The lecture starts at 6:15 PM with mocktails/cocktails and hors d’oeuvres at 7:15 PM. \n\n\n\n\n\n\nNina Sankovitch \nAmerican Rebels: How the Hancock\, Adams\, and Quincy Families Fanned the Flames of Revolution by Nina Sankovitch is a historical book that explores the intertwined lives of these three prominent Massachusetts families and their crucial roles in sparking the American Revolution. \nThe book details how childhood friendships in Braintree\, Massachusetts\, between figures like John Hancock\, John Adams\, and Josiah Quincy Jr.\, and their wives Abigail Adams and Dorothy Quincy Hancock\, evolved into a powerful collaboration against British rule\, covering events from the Boston Massacre to the Declaration of Independence. It offers a fresh perspective by focusing on these families’ personal connections\, shared sense of duty\, and the significant impact of the women in their lives. \nJean Brett Memorial Lecture  \nThe inaugural Jean Brett Memorial Lecture was held February 13\, 2008. This special endowed annual lecture is a gift from NSCDA MA member Jan Churchill Brett in memory of her mother Jean Thaxter Brett\, longtime active member of the Massachusetts Society. Jan Brett and her husband\, Joe Hearne\, along with her two sisters are invited as special guests. \n$70 Per Person – Guests are Welcome \nReservations must be received by February 25\, 2025 \nNo reservations or refunds for cancellations after that date.
URL:https://nscdama.org/event/17th-annual-jean-brett-lecture-nina-sankovich/
LOCATION:William Hickling Prescott House\, 55 Beacon St\, Boston\, MA\, 02108\, United States
ATTACH;FMTTYPE=image/jpeg:https://nscdama.org/wp-content/uploads/2026/01/17th-Annual-Jean-Brett-Lecture-Series.jpg
ORGANIZER;CN="NSCDA-MA":MAILTO:dames@nscdama.org
END:VEVENT
BEGIN:VEVENT
DTSTART;TZID=America/New_York:20220804T170000
DTEND;TZID=America/New_York:20220804T190000
DTSTAMP:20260422T044848
CREATED:20220719T153532Z
LAST-MODIFIED:20220719T153532Z
UID:10000038-1659632400-1659639600@nscdama.org
SUMMARY:Cape Summer Cocktail Party
DESCRIPTION:Enjoy a breezy summer evening with fellow Dames generously hosted by Priscilla and Jim Morphy. \nPlease bring a bottle of wine and an hors d’oeuvre to share. \nThe party is on the lawn and appropriate footwear is suggested. \nHusbands are invited. \nRSVP to Alexandra at dames@nscdama.org by August 1.
URL:https://nscdama.org/event/cape-summer-cocktail-party/
LOCATION:432 Wianno Avenue   Osterville\, Mass 02655\, 432 Wianno Avenue\, Osterville\, MA\, 02655\, United States
ATTACH;FMTTYPE=image/webp:https://nscdama.org/wp-content/uploads/2022/07/Osterville.webp
ORGANIZER;CN="NSCDA-MA":MAILTO:dames@nscdama.org
END:VEVENT
END:VCALENDAR