BEGIN:VCALENDAR
VERSION:2.0
PRODID:-//The Society of Colonial Dames of Massachusetts - ECPv6.15.18//NONSGML v1.0//EN
CALSCALE:GREGORIAN
METHOD:PUBLISH
X-ORIGINAL-URL:https://nscdama.org
X-WR-CALDESC:Events for The Society of Colonial Dames of Massachusetts
REFRESH-INTERVAL;VALUE=DURATION:PT1H
X-Robots-Tag:noindex
X-PUBLISHED-TTL:PT1H
BEGIN:VTIMEZONE
TZID:America/New_York
BEGIN:DAYLIGHT
TZOFFSETFROM:-0500
TZOFFSETTO:-0400
TZNAME:EDT
DTSTART:20230312T070000
END:DAYLIGHT
BEGIN:STANDARD
TZOFFSETFROM:-0400
TZOFFSETTO:-0500
TZNAME:EST
DTSTART:20231105T060000
END:STANDARD
BEGIN:DAYLIGHT
TZOFFSETFROM:-0500
TZOFFSETTO:-0400
TZNAME:EDT
DTSTART:20240310T070000
END:DAYLIGHT
BEGIN:STANDARD
TZOFFSETFROM:-0400
TZOFFSETTO:-0500
TZNAME:EST
DTSTART:20241103T060000
END:STANDARD
BEGIN:DAYLIGHT
TZOFFSETFROM:-0500
TZOFFSETTO:-0400
TZNAME:EDT
DTSTART:20250309T070000
END:DAYLIGHT
BEGIN:STANDARD
TZOFFSETFROM:-0400
TZOFFSETTO:-0500
TZNAME:EST
DTSTART:20251102T060000
END:STANDARD
END:VTIMEZONE
BEGIN:VEVENT
DTSTART;TZID=America/New_York:20240502T180000
DTEND;TZID=America/New_York:20240502T200000
DTSTAMP:20260422T120202
CREATED:20240109T210514Z
LAST-MODIFIED:20240429T211032Z
UID:10000085-1714672800-1714680000@nscdama.org
SUMMARY:Members and Guests Only: Dames/Warriors cocktail party
DESCRIPTION:Enjoy an evening of cocktails and conversation with fellow Dames and Warriors. \n  \nPlease bring a prospective candidate as your guest. A genealogist will be present to answer eligibility questions\, and we will hear welcoming remarks from both of our Presidents. \n  \nMay 2\, 2024 \n6:00 – 8:00 pm \nWilliam Hickling Prescott House \n55 Beacon Street\, Boston \n  \nDon’t want to purchase tickets online?\nMail a check to 55 Beacon Street\, Boston\, MA 02108 with the name of each attendee. Include an additional $10 for each parking voucher you would like to purchase.
URL:https://nscdama.org/event/members-and-guests-only-warriors-dames-cocktail-party/
LOCATION:William Hickling Prescott House\, 55 Beacon St\, Boston\, MA\, 02108\, United States
ATTACH;FMTTYPE=image/jpeg:https://nscdama.org/wp-content/uploads/2023/04/untitled-16-of-150-scaled.jpg
ORGANIZER;CN="NSCDA-MA":MAILTO:dames@nscdama.org
END:VEVENT
BEGIN:VEVENT
DTSTART;TZID=America/New_York:20240511T140000
DTEND;TZID=America/New_York:20240511T140000
DTSTAMP:20260422T120202
CREATED:20240502T145014Z
LAST-MODIFIED:20240502T145014Z
UID:10000093-1715436000-1715436000@nscdama.org
SUMMARY:Songfest at Martin House Farm
DESCRIPTION:Join the Dames at Martin House Farm for an afternoon of singing with Song Leader and Environmental Educator Milly Roberts. Let’s sing together in celebration of Mother Earth. We are a community working hard to conserve heritage\, habitat and native ecosystems. \nFeel free to bring your camp chair. In case of light rain\, bring your most colorful umbrella. In case of really bad weather\, please stay home. Please stay safe. \nIt can be wet\, so please wear boots. \nLet’s celebrate this beautiful\, well cared for place that we all love.
URL:https://nscdama.org/event/songfest-at-martin-house-farm/
LOCATION:Martin House Farm\, 22 Stoney Hill Rd\, Swansea\, MA\, 02777\, United States
ATTACH;FMTTYPE=image/png:https://nscdama.org/wp-content/uploads/2024/05/Screenshot-2024-04-25-154859.png
END:VEVENT
BEGIN:VEVENT
DTSTART;TZID=America/New_York:20240514T100000
DTEND;TZID=America/New_York:20240514T140000
DTSTAMP:20260422T120202
CREATED:20240109T210838Z
LAST-MODIFIED:20240507T162309Z
UID:10000086-1715680800-1715695200@nscdama.org
SUMMARY:Members only: NSCDA-MA Annual Meeting
DESCRIPTION:THE NATIONAL SOCIETY OF THE COLONIAL DAMES OF AMERICA IN THE COMMONWEALTH OF MASSACHUSETTS CORDIALLY INVITES YOU TO: \n  \nThe Annual Meeting \nTuesday\, May 14\, 2024 \nTen o’clock in the morning \n  \nThe Country Club \n191 Clyde Street \nChestnut Hill\, Massachusetts \n  \nLuncheon will be served following the meeting \n  \nReservations must be made by Tuesday\, May 7\, 2024 \nNo refunds for cancellations after that date
URL:https://nscdama.org/event/members-only-nscda-ma-annual-meeting/
LOCATION:The Country Club\, 191 Clyde St\, Chestnut Hill\, MA\, 02467
ATTACH;FMTTYPE=image/jpeg:https://nscdama.org/wp-content/uploads/2023/03/s-l1600-1.jpg
ORGANIZER;CN="NSCDA-MA":MAILTO:dames@nscdama.org
END:VEVENT
BEGIN:VEVENT
DTSTART;VALUE=DATE:20240516
DTEND;VALUE=DATE:20240517
DTSTAMP:20260422T120202
CREATED:20240201T203712Z
LAST-MODIFIED:20250206T203931Z
UID:10000090-1715817600-1715903999@nscdama.org
SUMMARY:Lunch at Prescott House - Beacon Hill Hidden Garden Tour 2025
DESCRIPTION:The National Society of the Colonial Dames in the Commonwealth of Massachusetts invites participants in the 2024 Hidden Garden Tours of Beacon Hill to enjoy a boxed lunch at the historic William Hickling Prescott House. \nLunch will be served between 11:30 am and 2:30 pm\, and will include a half-sandwich (choice of chicken salad or caprese)\, fruit salad\, chips\, cookie\, and beverage courtesy of Cobblestones Eatery. Seating is limited\, so please reserve in advance. The last day to reserve tickets is May 9th\, no walk-ups will be allowed. \nRestrooms are available on the premises. \n  \nPlease note! Purchasing a seat for the lunch is separate from the tour ticket. \nTo purchase a ticket for the Hidden Garden Tour\, please visit https://www.beaconhillgardenclub.org/tour-day-information \n  \nNo refunds or cancellations after 5/9/2024.
URL:https://nscdama.org/event/garden2024/
LOCATION:William Hickling Prescott House\, 55 Beacon St\, Boston\, MA\, 02108\, United States
ATTACH;FMTTYPE=image/jpeg:https://nscdama.org/wp-content/uploads/2023/02/untitled-10-of-150-3-scaled.jpg
ORGANIZER;CN="NSCDA-MA":MAILTO:dames@nscdama.org
END:VEVENT
BEGIN:VEVENT
DTSTART;TZID=America/New_York:20240522T160000
DTEND;TZID=America/New_York:20240522T190000
DTSTAMP:20260422T120202
CREATED:20240426T184459Z
LAST-MODIFIED:20240426T185442Z
UID:10000092-1716393600-1716404400@nscdama.org
SUMMARY:Presidents Trail: Picnic at The Dorothy Quincy Homestead
DESCRIPTION:In Celebration of The Presidents Trail\, The Quincy Chamber of Commerce & The National Society of The Colonial Dames in the Commonwealth of Massachusetts invite you to our Picnic at The Dorothy Quincy Homestead! \nBring your own blankets\, chairs\, and your favorite food and drinks for a picnic\, or simply visit the grounds\, tour the home\, and take in history while historical interpreters re-enact the colonial times. \nJoin us for some:\nFamily Friendly Fun\nMeet and Greet with Historic Redactors\nGuided Tours of the Homestead and free Ice Cream
URL:https://nscdama.org/event/presidents-trail-picnic-at-the-dorothy-quincy-homestead/
LOCATION:34 Butler Rd Quincy\, MA\, 34 Butler Rd\, Quincy\, MA\, 02169\, United States
ATTACH;FMTTYPE=image/jpeg:https://nscdama.org/wp-content/uploads/2024/04/Quincy-Homestead-134-1024x682-1.jpg
END:VEVENT
BEGIN:VEVENT
DTSTART;TZID=America/New_York:20240530T160000
DTEND;TZID=America/New_York:20240530T180000
DTSTAMP:20260422T120202
CREATED:20240520T143308Z
LAST-MODIFIED:20240520T182258Z
UID:10000095-1717084800-1717092000@nscdama.org
SUMMARY:South Shore Garden Party
DESCRIPTION:Please join us for a wonderful opportunity to not only see the Quincy Homestead garden and interiors\, but also the to get together with other Dames who live in the following areas: Dedham\, Westwood\, Hingham\, Cohasset\, Norwell\, and Scituate. \nDames from other areas are\, of course\, very welcome. \nIf rain occurs the area gathering will plan to move inside.
URL:https://nscdama.org/event/south-shore-area-gathering/
LOCATION:Dorothy Quincy Homestead\, 34 Butler Road\, Quincy\, MA\, 02169\, United States
ATTACH;FMTTYPE=image/jpeg:https://nscdama.org/wp-content/uploads/2024/04/Quincy-Homestead-134-1024x682-1.jpg
ORGANIZER;CN="NSCDA-MA":MAILTO:dames@nscdama.org
END:VEVENT
END:VCALENDAR