BEGIN:VCALENDAR
VERSION:2.0
PRODID:-//The Society of Colonial Dames of Massachusetts - ECPv6.15.18//NONSGML v1.0//EN
CALSCALE:GREGORIAN
METHOD:PUBLISH
X-WR-CALNAME:The Society of Colonial Dames of Massachusetts
X-ORIGINAL-URL:https://nscdama.org
X-WR-CALDESC:Events for The Society of Colonial Dames of Massachusetts
REFRESH-INTERVAL;VALUE=DURATION:PT1H
X-Robots-Tag:noindex
X-PUBLISHED-TTL:PT1H
BEGIN:VTIMEZONE
TZID:America/New_York
BEGIN:DAYLIGHT
TZOFFSETFROM:-0500
TZOFFSETTO:-0400
TZNAME:EDT
DTSTART:20230312T070000
END:DAYLIGHT
BEGIN:STANDARD
TZOFFSETFROM:-0400
TZOFFSETTO:-0500
TZNAME:EST
DTSTART:20231105T060000
END:STANDARD
BEGIN:DAYLIGHT
TZOFFSETFROM:-0500
TZOFFSETTO:-0400
TZNAME:EDT
DTSTART:20240310T070000
END:DAYLIGHT
BEGIN:STANDARD
TZOFFSETFROM:-0400
TZOFFSETTO:-0500
TZNAME:EST
DTSTART:20241103T060000
END:STANDARD
BEGIN:DAYLIGHT
TZOFFSETFROM:-0500
TZOFFSETTO:-0400
TZNAME:EDT
DTSTART:20250309T070000
END:DAYLIGHT
BEGIN:STANDARD
TZOFFSETFROM:-0400
TZOFFSETTO:-0500
TZNAME:EST
DTSTART:20251102T060000
END:STANDARD
END:VTIMEZONE
BEGIN:VEVENT
DTSTART;TZID=America/New_York:20240306T170000
DTEND;TZID=America/New_York:20240306T190000
DTSTAMP:20260422T152017
CREATED:20240109T205909Z
LAST-MODIFIED:20240301T152401Z
UID:10000084-1709744400-1709751600@nscdama.org
SUMMARY:Sip and Shop at J.McLaughlin
DESCRIPTION:Bring your friends for an evening of shopping and refreshments at J. McLaughlin\, Beacon Hill. \n15% of all sales during this event will all go directly to the National Society of the Colonial Dames of America in the Commonwealth of Massachusetts! \nPair it with dinner at one of the many restaurants in the neighborhood for a perfect Beacon Hill evening. \n  \nOnline RSVP ends March 6th at 10:00am. Please email the office after that time\, dames@nscdama.org.
URL:https://nscdama.org/event/sip-and-shop-at-j-mclaughlin/
LOCATION:J.McLaughlin\, 34 Charles St\, Boston\, MA\, 02114\, United States
ATTACH;FMTTYPE=image/jpeg:https://nscdama.org/wp-content/uploads/2023/03/Screenshot-2023-03-31-110303.jpg
ORGANIZER;CN="NSCDA-MA":MAILTO:dames@nscdama.org
END:VEVENT
BEGIN:VEVENT
DTSTART;TZID=America/New_York:20240321T180000
DTEND;TZID=America/New_York:20240321T210000
DTSTAMP:20260422T152017
CREATED:20240109T211309Z
LAST-MODIFIED:20240227T211706Z
UID:10000087-1711044000-1711054800@nscdama.org
SUMMARY:Warriors and Dames Dinner\, the Union Club
DESCRIPTION:Join the us as Massachusetts Warriors and Dames come together for our joint annual dinner in March. Our speaker\, MIT urban design expert Brent D. Ryan\, will give remarks exploring the design histories of three English colonial cities—New Haven (1638)\, Philadelphia (1682)\, and Savannah (1733). While their plans drew on established precedents and were alike in featuring rectilinear street grids\, civic buildings\, and open squares\, each city’s configuration was also unique and exemplary. Professor Ryan will discuss how these three cities developed over time\, trace their influence on subsequent urban planning\, and show how today’s urbanists continue to draw from the creative ideas of their colonial English predecessors. A graduate of Yale University\, Brent D. Ryan earned his M. Arch. from Columbia and holds a Ph.D.in urban design and planning from MIT. Among his many books and articles are The Largest Art: A Measured Manifesto for a Plural Urbanism (2017)\, Design After Decline: How America Rebuilds Shrinking Cities (2012). \nRegistration deadline is Friday\, March 15.  \nTickets can be purchased here. \n 
URL:https://nscdama.org/event/warriors-and-dames-dinner-the-union-club/
LOCATION:Union Club\, 8 Park St Pl\, Boston\, MA\, 02108\, United States
ATTACH;FMTTYPE=image/jpeg:https://nscdama.org/wp-content/uploads/2024/01/Classic-Wedding-Union-Club-Boston-Janet-Moscarello-25-of-32-600x400-1.jpg
END:VEVENT
BEGIN:VEVENT
DTSTART;TZID=America/New_York:20240324T130000
DTEND;TZID=America/New_York:20240324T150000
DTSTAMP:20260422T152017
CREATED:20240109T205633Z
LAST-MODIFIED:20240322T144821Z
UID:10000083-1711285200-1711292400@nscdama.org
SUMMARY:Spring Membership Tea
DESCRIPTION:All NSCDA-MA prospective and current members are cordially invited to an afternoon tea at Prescott House. Learn more about the organization and this beautiful property through conversation with current members and a docent-led tour of the collections. \n  \nOnline RSVPs close on Friday\, March 22nd at 9:00 am. If you wish to RSVP after this time\, please contact Robin Ryan at mcryan731@gmail.com.
URL:https://nscdama.org/event/spring-membership-tea-2024/
LOCATION:William Hickling Prescott House\, 55 Beacon St\, Boston\, MA\, 02108\, United States
ATTACH;FMTTYPE=image/jpeg:https://nscdama.org/wp-content/uploads/2024/01/4b3f441ce6c7c0f577dc4f57c217f9a9-2.jpg
ORGANIZER;CN="NSCDA-MA":MAILTO:dames@nscdama.org
END:VEVENT
END:VCALENDAR