BEGIN:VCALENDAR
VERSION:2.0
PRODID:-//The Society of Colonial Dames of Massachusetts - ECPv6.15.18//NONSGML v1.0//EN
CALSCALE:GREGORIAN
METHOD:PUBLISH
X-ORIGINAL-URL:https://nscdama.org
X-WR-CALDESC:Events for The Society of Colonial Dames of Massachusetts
REFRESH-INTERVAL;VALUE=DURATION:PT1H
X-Robots-Tag:noindex
X-PUBLISHED-TTL:PT1H
BEGIN:VTIMEZONE
TZID:America/New_York
BEGIN:DAYLIGHT
TZOFFSETFROM:-0500
TZOFFSETTO:-0400
TZNAME:EDT
DTSTART:20220313T070000
END:DAYLIGHT
BEGIN:STANDARD
TZOFFSETFROM:-0400
TZOFFSETTO:-0500
TZNAME:EST
DTSTART:20221106T060000
END:STANDARD
BEGIN:DAYLIGHT
TZOFFSETFROM:-0500
TZOFFSETTO:-0400
TZNAME:EDT
DTSTART:20230312T070000
END:DAYLIGHT
BEGIN:STANDARD
TZOFFSETFROM:-0400
TZOFFSETTO:-0500
TZNAME:EST
DTSTART:20231105T060000
END:STANDARD
BEGIN:DAYLIGHT
TZOFFSETFROM:-0500
TZOFFSETTO:-0400
TZNAME:EDT
DTSTART:20240310T070000
END:DAYLIGHT
BEGIN:STANDARD
TZOFFSETFROM:-0400
TZOFFSETTO:-0500
TZNAME:EST
DTSTART:20241103T060000
END:STANDARD
BEGIN:DAYLIGHT
TZOFFSETFROM:-0500
TZOFFSETTO:-0400
TZNAME:EDT
DTSTART:20250309T070000
END:DAYLIGHT
BEGIN:STANDARD
TZOFFSETFROM:-0400
TZOFFSETTO:-0500
TZNAME:EST
DTSTART:20251102T060000
END:STANDARD
END:VTIMEZONE
BEGIN:VEVENT
DTSTART;TZID=America/New_York:20231205T110000
DTEND;TZID=America/New_York:20231205T140000
DTSTAMP:20260422T201715
CREATED:20230817T203849Z
LAST-MODIFIED:20231108T215320Z
UID:10000074-1701774000-1701784800@nscdama.org
SUMMARY:Members only: Christmas luncheon and lecture
DESCRIPTION:Join fellow Dames for a lecture and luncheon at this annual members-only event. \nSee below to reserve your spot and to learn more about Ken Torino’s lecture\, “Deck the Halls: Female Abolitionists and Christmas.” RSVP now\, tickets always sell out! \n  \n  \n“Deck the Halls: Female Abolitionists and Christmas” \nWhat we think of as the traditional trappings of Christmas celebrations were just beginning in the first half of the nineteenth century. New England’s female abolitionists played a large role in the development of modern American Christmas traditions. In fact they were the leaders. These abolitionists\, including Maria Chapman\, Lydia Marie Child\, and Abby Kelly hosted anti-slavery society Christmas Fairs – one of the earliest traditions associated with Christmas in America. It was at these fairs that most Americans in the first half of the nineteenth century encountered a Christmas tree. The female abolitionists also promoted the idea of gift giving at their fairs\, a central part of our traditions today. These woman created strong networks of woman that stretched across the then United States and into Europe. They promoted abolitionism while creating goods for sale and organizing the fairs. All this helped move woman out of the designated domestic sphere of the home (not without controversy) into the economy\, changing forever the role of woman in society. These were both white and black woman with organizations like the African American\, Female Abolitionist Society of Philadelphia and closer to home Salem\, Massachusetts. These societies contributed time and goods to Christmas fairs to raise money for the abolitionist cause. Christmas fairs had a wide-ranging influence on our current customs\, including the use of Christmas trees\, greenery in decorating\, and gift giving in America.
URL:https://nscdama.org/event/members-only-christmas-luncheon-and-lecture/
LOCATION:William Hickling Prescott House\, 55 Beacon St\, Boston\, MA\, 02108\, United States
ATTACH;FMTTYPE=image/jpeg:https://nscdama.org/wp-content/uploads/2023/08/b9d22dab4a3810bde9bd17441d160f33-e1692304719730.jpg
ORGANIZER;CN="NSCDA-MA":MAILTO:dames@nscdama.org
END:VEVENT
BEGIN:VEVENT
DTSTART;VALUE=DATE:20231208
DTEND;VALUE=DATE:20240107
DTSTAMP:20260422T201715
CREATED:20231023T180458Z
LAST-MODIFIED:20231023T180707Z
UID:10000081-1701993600-1704585599@nscdama.org
SUMMARY:Prescott House Holiday Tours
DESCRIPTION:In partnership with the Colonial Dames of Massachusetts\, Hub Town Tours is elated to offer special holiday tours inside one of the hidden gems in Boston’s Beacon Hill. Join us for impressive Victorian-era history amidst a fun\, festive holiday atmosphere! \nFridays & Saturdays in December\nFriday: 2pm–5pm | Saturday: 11am–2pm \nOpen House plus Guided Tours\n$5.00 Admission | $10 Admission + Guided Tour \n  \nClick here to book tickets!
URL:https://nscdama.org/event/prescott-house-holiday-tours/
LOCATION:William Hickling Prescott House\, 55 Beacon St\, Boston\, MA\, 02108\, United States
ATTACH;FMTTYPE=image/jpeg:https://nscdama.org/wp-content/uploads/2023/10/IMG_4140-4-scaled.jpg
ORGANIZER;CN="Hub Town Tours":MAILTO:info@hubtowntours.com
END:VEVENT
BEGIN:VEVENT
DTSTART;TZID=America/New_York:20231210T120000
DTEND;TZID=America/New_York:20231210T160000
DTSTAMP:20260422T201715
CREATED:20231023T145341Z
LAST-MODIFIED:20231102T203250Z
UID:10000080-1702209600-1702224000@nscdama.org
SUMMARY:Annual Beacon Hill Holiday House Tour - one day only!
DESCRIPTION:Prescott House is Part of the 2023 Beacon Hill Holiday House Tour on December 10th \nJoin us for a rare opportunity to experience a select group of remarkable private residences festively decorated for the holidays \nThe Nichols House Museum\, which is part of the Alliance of House Museums along with Prescott House\, has organized a holiday house tour of Beacon Hill on December 10th. The Prescott House Committee will be at the house to welcome about 300 visitors who take this tour each year. In addition to showing visitors our home decorated for the holidays\, we’ll have Boston pianist\, Jayne Young\, playing Christmas carols on our Tomkinson piano in the parlor. \nIf you’d like to go on the Beacon Hill Holiday House Tour\, you’ll have the rare opportunity to experience a select group of remarkable private residences at their festive best. This year like every year\, the tour showcases outstanding examples of historic preservation\, as well as creative modern interpretations and adaptations in a broad range of architectural and interior design styles throughout Beacon Hill. The Nichols House Museum and the William Hickling Prescott House will also be open for self-guided tours\, and there will be strolling performances by the Olde Towne Carolers. \nAs an after party\, from 3–5 pm there will be light refreshments at the Kings Chapel Parish House on Beacon Street and Liya Nigmati will be performing at the Parish House receiption. Nigmati is an accomplished solo and collaborative pianist\, a vocal and instrumental coach\, and a music educator. Winner of several international piano competitions\, Liya has toured across the world. She has been critically acclaimed for her “stunning performance” (Global Times) in which she “…shined through” (The Boston Musical Intelligencer). \nTo purchase tickets which start at $35/person\, please go to: https://www.eventbrite.com/e/beacon-hill-holiday-house-tour-2023-tickets-742444761267?aff=oddtdtcreator. All proceeds from ticket sales provide financial support for the Nichol’s House Musuem’s ongoing preservation and programming needs. \nHappy Holidays!
URL:https://nscdama.org/event/beacon-hill-holiday-house-tour/
LOCATION:William Hickling Prescott House\, 55 Beacon St\, Boston\, MA\, 02108\, United States
ATTACH;FMTTYPE=image/png:https://nscdama.org/wp-content/uploads/2023/10/Website-Image-HHT-2023.png
ORGANIZER;CN="Nichols House Museum":MAILTO:info@nicholshousemuseum.org
END:VEVENT
BEGIN:VEVENT
DTSTART;TZID=America/New_York:20231213T180000
DTEND;TZID=America/New_York:20231213T200000
DTSTAMP:20260422T201715
CREATED:20230817T204129Z
LAST-MODIFIED:20231212T203849Z
UID:10000075-1702490400-1702497600@nscdama.org
SUMMARY:Members and guests only: Young Dames holiday cocktail party
DESCRIPTION:The Young Dames Committee invites all Dames\, Warriors\, and guests to an evening of cocktails\, conversation\, and holiday merriment! \nSee below to RSVP and reserve a parking pass.
URL:https://nscdama.org/event/members-and-guests-only-young-dames-holiday-cocktail-party/
LOCATION:William Hickling Prescott House\, 55 Beacon St\, Boston\, MA\, 02108\, United States
ATTACH;FMTTYPE=image/jpeg:https://nscdama.org/wp-content/uploads/2023/08/b8a0d331a3269e5b524336318e2b4b8f-e1692304878228.jpg
ORGANIZER;CN="NSCDA-MA":MAILTO:dames@nscdama.org
END:VEVENT
END:VCALENDAR