BEGIN:VCALENDAR
VERSION:2.0
PRODID:-//The Society of Colonial Dames of Massachusetts - ECPv6.15.18//NONSGML v1.0//EN
CALSCALE:GREGORIAN
METHOD:PUBLISH
X-ORIGINAL-URL:https://nscdama.org
X-WR-CALDESC:Events for The Society of Colonial Dames of Massachusetts
REFRESH-INTERVAL;VALUE=DURATION:PT1H
X-Robots-Tag:noindex
X-PUBLISHED-TTL:PT1H
BEGIN:VTIMEZONE
TZID:America/New_York
BEGIN:DAYLIGHT
TZOFFSETFROM:-0500
TZOFFSETTO:-0400
TZNAME:EDT
DTSTART:20220313T070000
END:DAYLIGHT
BEGIN:STANDARD
TZOFFSETFROM:-0400
TZOFFSETTO:-0500
TZNAME:EST
DTSTART:20221106T060000
END:STANDARD
BEGIN:DAYLIGHT
TZOFFSETFROM:-0500
TZOFFSETTO:-0400
TZNAME:EDT
DTSTART:20230312T070000
END:DAYLIGHT
BEGIN:STANDARD
TZOFFSETFROM:-0400
TZOFFSETTO:-0500
TZNAME:EST
DTSTART:20231105T060000
END:STANDARD
BEGIN:DAYLIGHT
TZOFFSETFROM:-0500
TZOFFSETTO:-0400
TZNAME:EDT
DTSTART:20240310T070000
END:DAYLIGHT
BEGIN:STANDARD
TZOFFSETFROM:-0400
TZOFFSETTO:-0500
TZNAME:EST
DTSTART:20241103T060000
END:STANDARD
END:VTIMEZONE
BEGIN:VEVENT
DTSTART;TZID=America/New_York:20230309T183000
DTEND;TZID=America/New_York:20230309T203000
DTSTAMP:20260423T092053
CREATED:20230213T205449Z
LAST-MODIFIED:20230213T205449Z
UID:10000054-1678386600-1678393800@nscdama.org
SUMMARY:By Invitation Only: New Members Dinner
DESCRIPTION:New members are invited to join select board members for a dinner at Prescott House to welcome them to the NSCDA-MA.
URL:https://nscdama.org/event/new-members/
LOCATION:William Hickling Prescott House\, 55 Beacon St\, Boston\, MA\, 02108\, United States
ATTACH;FMTTYPE=image/jpeg:https://nscdama.org/wp-content/uploads/2023/02/7646caf1caff628fbeed6f7b745850ee.jpg
END:VEVENT
BEGIN:VEVENT
DTSTART;TZID=America/New_York:20230326T130000
DTEND;TZID=America/New_York:20230326T150000
DTSTAMP:20260423T092053
CREATED:20230213T215446Z
LAST-MODIFIED:20230315T143304Z
UID:10000042-1679835600-1679842800@nscdama.org
SUMMARY:Spring Membership Tea
DESCRIPTION:All NSCDA-MA prospective and current members are cordially invited to an afternoon tea at Prescott House. Learn more about the organization and this beautiful property through conversation with current members and a docent-led tour of the collections. \n  \nOnline RSVPs close on Friday\, March 17th at 9:00 am. If you need to RSVP after then\, please email Robin Ryan at mcryan731@gmail.com .
URL:https://nscdama.org/event/spring-tea/
LOCATION:MA
ATTACH;FMTTYPE=image/jpeg:https://nscdama.org/wp-content/uploads/2023/02/3a4bd93d0241794235e15b47ee617ee7.jpg
END:VEVENT
END:VCALENDAR