BEGIN:VCALENDAR
VERSION:2.0
PRODID:-//The Society of Colonial Dames of Massachusetts - ECPv6.15.18//NONSGML v1.0//EN
CALSCALE:GREGORIAN
METHOD:PUBLISH
X-ORIGINAL-URL:https://nscdama.org
X-WR-CALDESC:Events for The Society of Colonial Dames of Massachusetts
REFRESH-INTERVAL;VALUE=DURATION:PT1H
X-Robots-Tag:noindex
X-PUBLISHED-TTL:PT1H
BEGIN:VTIMEZONE
TZID:America/New_York
BEGIN:DAYLIGHT
TZOFFSETFROM:-0500
TZOFFSETTO:-0400
TZNAME:EDT
DTSTART:20250309T070000
END:DAYLIGHT
BEGIN:STANDARD
TZOFFSETFROM:-0400
TZOFFSETTO:-0500
TZNAME:EST
DTSTART:20251102T060000
END:STANDARD
BEGIN:DAYLIGHT
TZOFFSETFROM:-0500
TZOFFSETTO:-0400
TZNAME:EDT
DTSTART:20260308T070000
END:DAYLIGHT
BEGIN:STANDARD
TZOFFSETFROM:-0400
TZOFFSETTO:-0500
TZNAME:EST
DTSTART:20261101T060000
END:STANDARD
BEGIN:DAYLIGHT
TZOFFSETFROM:-0500
TZOFFSETTO:-0400
TZNAME:EDT
DTSTART:20270314T070000
END:DAYLIGHT
BEGIN:STANDARD
TZOFFSETFROM:-0400
TZOFFSETTO:-0500
TZNAME:EST
DTSTART:20271107T060000
END:STANDARD
END:VTIMEZONE
BEGIN:VEVENT
DTSTART;TZID=America/New_York:20260512T100000
DTEND;TZID=America/New_York:20260512T140000
DTSTAMP:20260419T082412
CREATED:20260311T130637Z
LAST-MODIFIED:20260401T132432Z
UID:10000155-1778580000-1778594400@nscdama.org
SUMMARY:(Members only) NSCDA-MA Annual Meeting
DESCRIPTION:THE NATIONAL SOCIETY OF THE COLONIAL DAMES OF AMERICA IN THE COMMONWEALTH OF MASSACHUSETTS CORDIALLY INVITES YOU TO: \n  \nThe Annual Meeting \nTuesday\, May 12\, 2026 \nTen o’clock in the morning \n  \nBrae Burn Country Club \n326 Fuller Street West\, Newton\, Massachusetts \nPlease find directions and a map here. \nArrival and Check-in at 9:30 am. The Annual Meeting will commence promptly at 10:00 am. Luncheon will be served following the meeting. Kindly refer to the map below for guidance in navigating the club. \nReservations must be made by Tuesday\, May 5\, 2026 \nNo refunds for cancellations after that date
URL:https://nscdama.org/event/members-only-nscda-ma-annual-meeting-3/
LOCATION:Brae Burn Country Club\, 326 Fuller Street West\, Newton\, MA\, 02465\, United States
ATTACH;FMTTYPE=image/webp:https://nscdama.org/wp-content/uploads/2026/03/10bf6d0a-e7e9-4de3-8098-8ba412fa7affsc_1920.webp
ORGANIZER;CN="NSCDA-MA":MAILTO:dames@nscdama.org
END:VEVENT
BEGIN:VEVENT
DTSTART;VALUE=DATE:20260521
DTEND;VALUE=DATE:20260522
DTSTAMP:20260419T082412
CREATED:20260226T180257Z
LAST-MODIFIED:20260408T202310Z
UID:10000153-1779321600-1779407999@nscdama.org
SUMMARY:(Public) Lunch at Prescott House - Beacon Hill Hidden Garden Tour 2026
DESCRIPTION:The National Society of the Colonial Dames in the Commonwealth of Massachusetts invites participants in the 2026 Hidden Garden Tours of Beacon Hill to enjoy a boxed lunch at the historic William Hickling Prescott House. \nLunch will be served between 11:30 am and 2:30 pm\, and will include a half-sandwich (choice of chicken salad or caprese)\, chips\, cookie\, and beverage courtesy of Cobblestones Eatery. Seating is limited\, so please reserve in advance. The last day to reserve tickets is May 14th\, no walk-ups will be allowed. \nRestrooms are available on the premises. \nPlease note: The tickets to join the Beacon Hill Hidden Garden tour have sold out. \nNo refunds or cancellations after 5/15/2026.
URL:https://nscdama.org/event/public-lunch-at-prescott-house-beacon-hill-hidden-garden-tour-2026/
LOCATION:William Hickling Prescott House\, 55 Beacon St\, Boston\, MA\, 02108\, United States
ATTACH;FMTTYPE=image/jpeg:https://nscdama.org/wp-content/uploads/2026/02/Garden-lunch-email-2.jpg
ORGANIZER;CN="NSCDA-MA":MAILTO:dames@nscdama.org
END:VEVENT
BEGIN:VEVENT
DTSTART;TZID=America/New_York:20260527T103000
DTEND;TZID=America/New_York:20260527T133000
DTSTAMP:20260419T082412
CREATED:20260324T134017Z
LAST-MODIFIED:20260324T180907Z
UID:10000158-1779877800-1779888600@nscdama.org
SUMMARY:(Members only) Field Trip to the Alden House Historic Site
DESCRIPTION:The NSCDA-MA is awarding the 2026 American Heritage Award to the Alden House Historic Site. (To learn more about this award and initiative by the NSCDA\, click here.) \nAs part of the award presentation\, we will have a tour of the Alden House with Executive Director\, Desiree Mobed\, including an opportunity to visit the Alden First Site and to shop in the gift shop. \n10:30am – Tour & Award Presentation\, Alden House Historic Site\n12:30pm – Lunch\, Duxbury Yacht Club\, Ellison Clubhouse\, 23 Mattakeesett Court \n*All NSCDA-MA members are invited to this special event. Space is limited!\n$25 for a box lunch. Choice of sandwich or salad. (Or feel free to bring your own lunch.)
URL:https://nscdama.org/event/members-only-field-trip-to-the-alden-house-historic-site/
LOCATION:Alden House\, 105 Alden St\, Duxbury\, MA\, 02332\, United States
ATTACH;FMTTYPE=image/jpeg:https://nscdama.org/wp-content/uploads/2026/03/Field-Trip-to-the-Alden-House-Historic-Site-1.jpg
END:VEVENT
BEGIN:VEVENT
DTSTART;TZID=America/New_York:20260604T180000
DTEND;TZID=America/New_York:20260604T200000
DTSTAMP:20260419T082412
CREATED:20260318T140021Z
LAST-MODIFIED:20260318T150127Z
UID:10000154-1780596000-1780603200@nscdama.org
SUMMARY:Peony Party
DESCRIPTION:The Massachusetts Dames cordially invite you to the Peony Party. \nMembers and Guests only. \n\n\n\nJoin fellow Dames for an evening of celebration\, cocktails\, hors d’oeuvres\, and Bo Winiker’s music provided through the generosity of Tom Thaler. \n\n\n\nRemembering Grace Yeomans Thaler \nGrace was a generous and dedicated Dame who lost her battle with pancreatic cancer in 2013. The Peony Party sprouted from Grace’s love of peonies\, and proceeds from the event support the Grace Yeomans Thaler Memorial Fund. The fund was established by Grace and her husband Tom to support the preservation of the Prescott House. \nSponsorship Opportunities: \n\n\n\n$5\,000 Reserves 4 tickets \n\n\n\n$2\,000 Reserves 2 tickets \n\n\n\n$1\,000 Reserves 1 ticket \n\n\n\n$500 \n\n\n$250 \n\n\n\n\n\n\n\n\n\n\n\n\nRecognition will be given to all sponsors in the Monthly Minnow & the night of the event.
URL:https://nscdama.org/event/members-guests-only-peony-party/
LOCATION:William Hickling Prescott House\, 55 Beacon St\, Boston\, MA\, 02108\, United States
ATTACH;FMTTYPE=image/jpeg:https://nscdama.org/wp-content/uploads/2026/03/Peony-Party-2026.jpg
ORGANIZER;CN="NSCDA-MA":MAILTO:dames@nscdama.org
END:VEVENT
END:VCALENDAR