BEGIN:VCALENDAR
VERSION:2.0
PRODID:-//The Society of Colonial Dames of Massachusetts - ECPv6.15.18//NONSGML v1.0//EN
CALSCALE:GREGORIAN
METHOD:PUBLISH
X-WR-CALNAME:The Society of Colonial Dames of Massachusetts
X-ORIGINAL-URL:https://nscdama.org
X-WR-CALDESC:Events for The Society of Colonial Dames of Massachusetts
REFRESH-INTERVAL;VALUE=DURATION:PT1H
X-Robots-Tag:noindex
X-PUBLISHED-TTL:PT1H
BEGIN:VTIMEZONE
TZID:America/New_York
BEGIN:DAYLIGHT
TZOFFSETFROM:-0500
TZOFFSETTO:-0400
TZNAME:EDT
DTSTART:20210314T070000
END:DAYLIGHT
BEGIN:STANDARD
TZOFFSETFROM:-0400
TZOFFSETTO:-0500
TZNAME:EST
DTSTART:20211107T060000
END:STANDARD
BEGIN:DAYLIGHT
TZOFFSETFROM:-0500
TZOFFSETTO:-0400
TZNAME:EDT
DTSTART:20220313T070000
END:DAYLIGHT
BEGIN:STANDARD
TZOFFSETFROM:-0400
TZOFFSETTO:-0500
TZNAME:EST
DTSTART:20221106T060000
END:STANDARD
BEGIN:DAYLIGHT
TZOFFSETFROM:-0500
TZOFFSETTO:-0400
TZNAME:EDT
DTSTART:20230312T070000
END:DAYLIGHT
BEGIN:STANDARD
TZOFFSETFROM:-0400
TZOFFSETTO:-0500
TZNAME:EST
DTSTART:20231105T060000
END:STANDARD
END:VTIMEZONE
BEGIN:VEVENT
DTSTART;TZID=America/New_York:20220331T120000
DTEND;TZID=America/New_York:20220331T130000
DTSTAMP:20260423T085456
CREATED:20220301T160249Z
LAST-MODIFIED:20220315T162456Z
UID:10000029-1648728000-1648731600@nscdama.org
SUMMARY:Katharine Lee Bates and Boston’s role in “America the Beautiful” Zoom event
DESCRIPTION:Presentation with MA Dame and author Melinda M. Ponder \nKatharine Lee Bates: From Sea to Shining Sea\, written by Melinda M. Ponder\, tells the story of the trail-blazing woman who wrote “America the Beautiful.” It compellingly portrays the story of her public triumphs as an activist poet as well as her personal heartaches as a single woman who had to choose between marriage and a career. \nKatharine Lee Bates’s “America the Beautiful” resonates for many people as the most patriotic and beloved American anthem. Her words speak of the beauty and love of our land\, our people\, and our country—a nation full of hope and possibility. That has never been more important than today. \nThink about pouring yourself a cup of tea\, along with other refreshments\, and join our Dames for this wonderful program. \nSee more at Melindaponder.com.
URL:https://nscdama.org/event/katharine-lee-bates-and-bostons-role-in-america-the-beautiful-zoom-event/
LOCATION:Virtual
CATEGORIES:Member Event
ATTACH;FMTTYPE=image/jpeg:https://nscdama.org/wp-content/uploads/2022/03/coverhighrez_orig.jpg
END:VEVENT
BEGIN:VEVENT
DTSTART;TZID=America/New_York:20220327T130000
DTEND;TZID=America/New_York:20220327T150000
DTSTAMP:20260423T085456
CREATED:20220307T175445Z
LAST-MODIFIED:20220307T175445Z
UID:10000027-1648386000-1648393200@nscdama.org
SUMMARY:Spring Membership Tea
DESCRIPTION:Please join President Lydia Kimball\, fellow Colonial Dames\, and prospective candidates at Prescott House for conversation and light refreshments. \n  \nNote: this is an in-person event.
URL:https://nscdama.org/event/spring-membership-tea/
LOCATION:William Hickling Prescott House\, 55 Beacon St\, Boston\, MA\, 02108\, United States
CATEGORIES:Member Event
ATTACH;FMTTYPE=image/png:https://nscdama.org/wp-content/uploads/2022/03/Spring-Fling-Party-Facebook-Event-Invite-Sale-Cover-Banner-Flowers-1.png
END:VEVENT
BEGIN:VEVENT
DTSTART;TZID=America/New_York:20220322T140000
DTEND;TZID=America/New_York:20220322T150000
DTSTAMP:20260423T085456
CREATED:20220304T193552Z
LAST-MODIFIED:20220304T193635Z
UID:10000028-1647957600-1647961200@nscdama.org
SUMMARY:Reading Group
DESCRIPTION:Our host is Anne Cuervo\, 39 Somerset Road\, Lexington\, MA.\n\nBook of Ages: The Life and Opinions of Jane Franklin by Jill Lepore.\n\nThis book is the story of Jane Franklin\, the sister of Benjamin Franklin. It is based on letters; many of the letters are from or to Benjamin Franklin.\n\nRSVP on nscdama.org\, under the Members Only events\nor contact Stephanie Cahalan at dames@nscdama.org\, 617-742-3190
URL:https://nscdama.org/event/reading-group/
LOCATION:MA
CATEGORIES:Member Event
ATTACH;FMTTYPE=image/jpeg:https://nscdama.org/wp-content/uploads/2022/03/91rh9acpBrL.jpeg
END:VEVENT
BEGIN:VEVENT
DTSTART;TZID=America/New_York:20220216T180000
DTEND;TZID=America/New_York:20220216T220000
DTSTAMP:20260423T085456
CREATED:20220204T130657Z
LAST-MODIFIED:20220204T131347Z
UID:10000030-1645034400-1645048800@nscdama.org
SUMMARY:Drinks by the Firepit
DESCRIPTION:Please RSVP to Stephanie at dames@nscdama.org or 617-742-3190 by 2/11/22. \n$65 per person. \nView Invitation \n 
URL:https://nscdama.org/event/drinks-by-the-firepit/
LOCATION:The Country Club\, 191 Clyde St\, Chestnut Hill\, MA\, 02467
CATEGORIES:Member Event
ATTACH;FMTTYPE=image/jpeg:https://nscdama.org/wp-content/uploads/2022/02/drinks-by-the-firepit.jpg
END:VEVENT
END:VCALENDAR